BEGIN:VCALENDAR
VERSION:2.0
PRODID:-//Stratis iCal API//FR
CALSCALE:GREGORIAN
X-WR-CALNAME:Soirée Stand-Up
BEGIN:VEVENT
UID:event-5193
SUMMARY:Soirée Stand-Up
DESCRIPTION:Découvrez le Camembert Comedy Tour à l'occasion d'une soirée Stand-Up organisé par le service culturel de l’Université !  
DTSTAMP:20240528T124014Z
DTSTART:20241210T190000Z
DTEND:20241210T190000Z
STATUS:CONFIRMED
SEQUENCE:1
BEGIN:VALARM
TRIGGER:-PT30M
DESCRIPTION:Soirée Stand-Up
ACTION:DISPLAY
END:VALARM
END:VEVENT
END:VCALENDAR