BEGIN:VCALENDAR
VERSION:2.0
PRODID:-//Stratis iCal API//FR
CALSCALE:GREGORIAN
X-WR-CALNAME:Tournée Tremplin Phénix Normandie
BEGIN:VEVENT
UID:event-5194
SUMMARY:Tournée Tremplin Phénix Normandie
DESCRIPTION:La Tournée Phénix Normandie  c’est la tournée qui vient récompenser les 3 groupes vainqueurs du Tremplin Phénix Normandie.  Chaque groupe bénéficie d’un accompagnement professionnel en résidence au CEM et sillonne les routes normandes à la rencontre du public.  A cette occasion  vous découvrirez en concert Atuva  Justine et Douche à la Maison de l'étudiant.   
DTSTAMP:20240528T124500Z
DTSTART:20241203T190000Z
DTEND:20241203T190000Z
STATUS:CONFIRMED
SEQUENCE:1
BEGIN:VALARM
TRIGGER:-PT30M
DESCRIPTION:Tournée Tremplin Phénix Normandie
ACTION:DISPLAY
END:VALARM
END:VEVENT
END:VCALENDAR