BEGIN:VCALENDAR
VERSION:2.0
PRODID:-//Stratis iCal API//FR
CALSCALE:GREGORIAN
X-WR-CALNAME:Conférence ESPMER - "Changement climatique et enjeux maritimes"
BEGIN:VEVENT
UID:event-5212
SUMMARY:Conférence ESPMER - "Changement climatique et enjeux maritimes"
DESCRIPTION:Quels sont les conséquences du changement climatique sur l'océan  la vie marine  les ressources halieutiques ? Quels enjeux de gestion soutenable et plus largement de sécurité alimentaire ?  Quels enjeux liés à la montée du niveau de la mer ?
DTSTAMP:20240912T135507Z
DTSTART:20240927T083000Z
DTEND:20240927T100000Z
STATUS:CONFIRMED
SEQUENCE:3
BEGIN:VALARM
TRIGGER:-PT30M
DESCRIPTION:Conférence ESPMER - "Changement climatique et enjeux maritimes"
ACTION:DISPLAY
END:VALARM
END:VEVENT
END:VCALENDAR