BEGIN:VCALENDAR
VERSION:2.0
PRODID:-//Stratis iCal API//FR
CALSCALE:GREGORIAN
X-WR-CALNAME:Journée Portes Ouvertes Institut de Formation d'Educateurs de Normandie (IFEN)
BEGIN:VEVENT
UID:event-5239
SUMMARY:Journée Portes Ouvertes Institut de Formation d'Educateurs de Normandie (IFEN)
DESCRIPTION:Nous vous invitons à découvrir les Journées Portes Ouvertes des établissements d'enseignement supérieur du Campus Le Havre-Normandie  haut-lieu de l'enseignement  de la recherche et de l'innovation. Ces événements sont une occasion idéale pour découvrir une large offre de formations  rencontrer des équipes pédagogiques et des enseignants passionnés et obtenir des conseils personnalisés sur votre avenir académique et professionnel. Ouvertes à tous  futurs étudiants et leurs familles  elles se dérouleront dans les différents établissements de notre territoire.
DTSTAMP:20250109T104044Z
DTSTART:20250124T230000Z
DTEND:20250124T230000Z
STATUS:CONFIRMED
SEQUENCE:1
BEGIN:VALARM
TRIGGER:-PT30M
DESCRIPTION:Journée Portes Ouvertes Institut de Formation d'Educateurs de Normandie (IFEN)
ACTION:DISPLAY
END:VALARM
END:VEVENT
END:VCALENDAR