BEGIN:VCALENDAR
VERSION:2.0
PRODID:-//Stratis iCal API//FR
CALSCALE:GREGORIAN
X-WR-CALNAME:IES Business School
BEGIN:VEVENT
UID:event-5255
SUMMARY:IES Business School
DESCRIPTION:Nous vous invitons à découvrir les Journées Portes Ouvertes des établissements d'enseignement supérieur du Campus Le Havre-Normandie  haut-lieu de l'enseignement  de la recherche et de l'innovation. Ces événements sont une occasion idéale pour découvrir une large offre de formations  rencontrer des équipes pédagogiques et des enseignants passionnés et obtenir des conseils personnalisés sur votre avenir académique et professionnel. Ouvertes à tous  futurs étudiants et leurs familles  elles se dérouleront dans les différents établissements de notre territoire.
DTSTAMP:20250109T143934Z
DTSTART:20250307T230000Z
DTEND:20250307T230000Z
STATUS:CONFIRMED
SEQUENCE:4
BEGIN:VALARM
TRIGGER:-PT30M
DESCRIPTION:IES Business School
ACTION:DISPLAY
END:VALARM
END:VEVENT
END:VCALENDAR