BEGIN:VCALENDAR
VERSION:2.0
PRODID:-//Stratis iCal API//FR
CALSCALE:GREGORIAN
X-WR-CALNAME:Coaching Sportif
BEGIN:VEVENT
UID:event-5285
SUMMARY:Coaching Sportif
DESCRIPTION:Participez aux sessions de coaching sportif organisées par le CROUS Normandie !
DTSTAMP:20250109T155201Z
DTSTART:20250126T230000Z
DTEND:20250126T230000Z
STATUS:CONFIRMED
SEQUENCE:3
BEGIN:VALARM
TRIGGER:-PT30M
DESCRIPTION:Coaching Sportif
ACTION:DISPLAY
END:VALARM
END:VEVENT
END:VCALENDAR