BEGIN:VCALENDAR
VERSION:2.0
PRODID:-//Stratis iCal API//FR
CALSCALE:GREGORIAN
X-WR-CALNAME:Un jardin partagé au Havre
BEGIN:VEVENT
UID:event-5287
SUMMARY:Un jardin partagé au Havre
DESCRIPTION:Participez aux ateliers de jardinage dans les jardins partagés du Havre coordonnés par le Crous Normandie et l'association On va semer !
DTSTAMP:20250109T155458Z
DTSTART:20250304T160000Z
DTEND:20250304T180000Z
STATUS:CONFIRMED
SEQUENCE:2
BEGIN:VALARM
TRIGGER:-PT30M
DESCRIPTION:Un jardin partagé au Havre
ACTION:DISPLAY
END:VALARM
END:VEVENT
END:VCALENDAR