BEGIN:VCALENDAR
VERSION:2.0
PRODID:-//Stratis iCal API//FR
CALSCALE:GREGORIAN
X-WR-CALNAME:Les Tablées de Quartier
BEGIN:VEVENT
UID:event-5295
SUMMARY:Les Tablées de Quartier
DESCRIPTION:Participez au projet dédié à l’alimentation mis en place par l’association "Tablées de Quartier et La Dantine". Cet événement inter établissement réunit l'Université Le Havre Normandie  l'EM Normandie  Sciences PO et le lycée Jules Le Cesne. 
DTSTAMP:20250113T143222Z
DTSTART:20250115T230000Z
DTEND:20250305T230000Z
STATUS:CONFIRMED
SEQUENCE:4
BEGIN:VALARM
TRIGGER:-PT30M
DESCRIPTION:Les Tablées de Quartier
ACTION:DISPLAY
END:VALARM
END:VEVENT
END:VCALENDAR