BEGIN:VCALENDAR
VERSION:2.0
PRODID:-//Stratis iCal API//FR
CALSCALE:GREGORIAN
X-WR-CALNAME:Impact ! Le festival des cultures urbaines
BEGIN:VEVENT
UID:event-5302
SUMMARY:Impact ! Le festival des cultures urbaines
DESCRIPTION:Participez à la 3e édition du festival “IMPACT!” dédié aux cultures urbaines à l’Université Le Havre Normandie.
DTSTAMP:20250203T123320Z
DTSTART:20250203T230000Z
DTEND:20250205T230000Z
STATUS:CONFIRMED
SEQUENCE:2
BEGIN:VALARM
TRIGGER:-PT30M
DESCRIPTION:Impact ! Le festival des cultures urbaines
ACTION:DISPLAY
END:VALARM
END:VEVENT
END:VCALENDAR