BEGIN:VCALENDAR
VERSION:2.0
PRODID:-//Stratis iCal API//FR
CALSCALE:GREGORIAN
X-WR-CALNAME:L'Etat des conflits dans le monde
BEGIN:VEVENT
UID:event-5305
SUMMARY:L'Etat des conflits dans le monde
DESCRIPTION:Dans le cadre de l’initiative Normandie pour la Paix  Sciences Po Campus du Havre et la Région Normandie vous invitent à faire le bilan des évolutions géopolitiques de l’année passée et à s’interroger sur ce que nous réserve l’année à venir  à l’occasion de la parution du numéro Diplomatie Magazine consacré à « L’état des conflits dans le monde ».
DTSTAMP:20250207T093247Z
DTSTART:20250213T173000Z
DTEND:20250213T173000Z
STATUS:CONFIRMED
SEQUENCE:2
BEGIN:VALARM
TRIGGER:-PT30M
DESCRIPTION:L'Etat des conflits dans le monde
ACTION:DISPLAY
END:VALARM
END:VEVENT
END:VCALENDAR