BEGIN:VCALENDAR
VERSION:2.0
PRODID:-//Stratis iCal API//FR
CALSCALE:GREGORIAN
X-WR-CALNAME:Les micro et nanoplastiques : une menace invisible pour les écosystèmes aquatiques
BEGIN:VEVENT
UID:event-5313
SUMMARY:Les micro et nanoplastiques : une menace invisible pour les écosystèmes aquatiques
DESCRIPTION:L'association Les Mouettes Solidaires organise une conférence sur la pollution de l'eau aux micro et nanoplastiques  le mardi 25 février prochain avec Céleste Mouth  doctorante à l'Université du Havre.
DTSTAMP:20250210T133322Z
DTSTART:20250225T170000Z
DTEND:20250225T170000Z
STATUS:CONFIRMED
SEQUENCE:1
BEGIN:VALARM
TRIGGER:-PT30M
DESCRIPTION:Les micro et nanoplastiques : une menace invisible pour les écosystèmes aquatiques
ACTION:DISPLAY
END:VALARM
END:VEVENT
END:VCALENDAR