BEGIN:VCALENDAR
VERSION:2.0
PRODID:-//Stratis iCal API//FR
CALSCALE:GREGORIAN
X-WR-CALNAME:Journée de l’École Doctorale Normande de Chimie 2025
BEGIN:VEVENT
UID:event-5320
SUMMARY:Journée de l’École Doctorale Normande de Chimie 2025
DESCRIPTION:Organisé cette année par des doctorants de l’Université Le Havre Normandie (laboratoire URCOM)  le Congrès Annuel de l’École Doctorale Normande de Chimie est un événement incontournable pour la communauté scientifique de la région. Il constitue un cadre privilégié pour les échanges entre doctorants  chercheurs  enseignants-chercheurs et industriels  favorisant les collaborations interdisciplinaires et mettant en lumière les dernières avancées en chimie.
DTSTAMP:20250211T104104Z
DTSTART:20250625T220000Z
DTEND:20250625T220000Z
STATUS:CONFIRMED
SEQUENCE:2
BEGIN:VALARM
TRIGGER:-PT30M
DESCRIPTION:Journée de l’École Doctorale Normande de Chimie 2025
ACTION:DISPLAY
END:VALARM
END:VEVENT
END:VCALENDAR