BEGIN:VCALENDAR
VERSION:2.0
PRODID:-//Stratis iCal API//FR
CALSCALE:GREGORIAN
X-WR-CALNAME:Journée d’amitié Le Havre – Marioupol 
BEGIN:VEVENT
UID:event-5323
SUMMARY:Journée d’amitié Le Havre – Marioupol 
DESCRIPTION:Une alliance tournée vers l’avenir et la coopération !  Le 28 février  ne manquez pas la journée dédiée à l’amitié et à la solidarité entre Le Havre et Marioupol  deux villes unies par la force de la résilience.  
DTSTAMP:20250212T163238Z
DTSTART:20250227T230000Z
DTEND:20250227T230000Z
STATUS:CONFIRMED
SEQUENCE:4
BEGIN:VALARM
TRIGGER:-PT30M
DESCRIPTION:Journée d’amitié Le Havre – Marioupol 
ACTION:DISPLAY
END:VALARM
END:VEVENT
END:VCALENDAR