BEGIN:VCALENDAR
VERSION:2.0
PRODID:-//Stratis iCal API//FR
CALSCALE:GREGORIAN
X-WR-CALNAME:Challenge Don de Sang et de Plasma 
BEGIN:VEVENT
UID:event-5333
SUMMARY:Challenge Don de Sang et de Plasma 
DESCRIPTION:Cette année encore  CHEERS en collaboration avec l’EFS et le Rotary Club du Havre  lance un appel à la solidarité en organisant une grande campagne de sensibilisation au don de sang et de plasma.
DTSTAMP:20250303T155409Z
DTSTART:20250226T230000Z
DTEND:20250326T230000Z
STATUS:CONFIRMED
SEQUENCE:6
BEGIN:VALARM
TRIGGER:-PT30M
DESCRIPTION:Challenge Don de Sang et de Plasma 
ACTION:DISPLAY
END:VALARM
END:VEVENT
END:VCALENDAR