BEGIN:VCALENDAR
VERSION:2.0
PRODID:-//Stratis iCal API//FR
CALSCALE:GREGORIAN
X-WR-CALNAME:Journées de l’École Doctorale Normande de Biologie Intégrative, Santé et Environnement 
BEGIN:VEVENT
UID:event-5336
SUMMARY:Journées de l’École Doctorale Normande de Biologie Intégrative  Santé et Environnement 
DESCRIPTION:
DTSTAMP:20250304T133840Z
DTSTART:20250423T220000Z
DTEND:20250424T220000Z
STATUS:CONFIRMED
SEQUENCE:1
BEGIN:VALARM
TRIGGER:-PT30M
DESCRIPTION:Journées de l’École Doctorale Normande de Biologie Intégrative  Santé et Environnement 
ACTION:DISPLAY
END:VALARM
END:VEVENT
END:VCALENDAR