BEGIN:VCALENDAR
VERSION:2.0
PRODID:-//Stratis iCal API//FR
CALSCALE:GREGORIAN
X-WR-CALNAME:Rentrée du Campus 2025
BEGIN:VEVENT
UID:event-5352
SUMMARY:Rentrée du Campus 2025
DESCRIPTION:Organisée par la ville du Havre  la Rentrée du campus constitue l'événement phare de la rentrée ! Il propose aux étudiants primos-arrivants de s’affronter en équipe pour défendre fièrement les couleurs de leur établissement. 
DTSTAMP:20250610T083508Z
DTSTART:20251002T120000Z
DTEND:20251002T160000Z
STATUS:CONFIRMED
SEQUENCE:8
BEGIN:VALARM
TRIGGER:-PT30M
DESCRIPTION:Rentrée du Campus 2025
ACTION:DISPLAY
END:VALARM
END:VEVENT
END:VCALENDAR