BEGIN:VCALENDAR
VERSION:2.0
PRODID:-//Stratis iCal API//FR
CALSCALE:GREGORIAN
X-WR-CALNAME:FISE Xperience Le Havre 2025
BEGIN:VEVENT
UID:event-5360
SUMMARY:FISE Xperience Le Havre 2025
DESCRIPTION:Le FISE Xperience Le Havre fait son grand retour dans le cadre du week-end de la Glisse sur deux spot  le Bowl et le Freestyle park pour un week-end BMX  Roller  Skateboard et Trottinette.
DTSTAMP:20250625T071151Z
DTSTART:20250828T220000Z
DTEND:20250830T220000Z
STATUS:CONFIRMED
SEQUENCE:5
BEGIN:VALARM
TRIGGER:-PT30M
DESCRIPTION:FISE Xperience Le Havre 2025
ACTION:DISPLAY
END:VALARM
END:VEVENT
END:VCALENDAR