BEGIN:VCALENDAR
VERSION:2.0
PRODID:-//Stratis iCal API//FR
CALSCALE:GREGORIAN
X-WR-CALNAME:Festival de l’éloquence 
BEGIN:VEVENT
UID:event-5385
SUMMARY:Festival de l’éloquence 
DESCRIPTION:L'Université Le Havre Normandie organise le Festival de l’éloquence sur le site Lebon.  
DTSTAMP:20260316T080555Z
DTSTART:20260316T230000Z
DTEND:20260318T230000Z
STATUS:CONFIRMED
SEQUENCE:4
BEGIN:VALARM
TRIGGER:-PT30M
DESCRIPTION:Festival de l’éloquence 
ACTION:DISPLAY
END:VALARM
END:VEVENT
END:VCALENDAR