BEGIN:VCALENDAR
VERSION:2.0
PRODID:-//Stratis iCal API//FR
CALSCALE:GREGORIAN
X-WR-CALNAME:La Nuit de l’Hydro 
BEGIN:VEVENT
UID:event-5386
SUMMARY:La Nuit de l’Hydro 
DESCRIPTION:La Nuit de l’Hydro du Havre revient pour sa 61ème édition  le samedi 28 mars 2026 au Stade Océane. Organisée par le Bureau des étudiants de la Marine Marchande du Havre  cette soirée emblématique mêle tradition et élégance pour une nuit festive.  
DTSTAMP:20260316T081817Z
DTSTART:20260328T180000Z
DTEND:20260329T033000Z
STATUS:CONFIRMED
SEQUENCE:5
BEGIN:VALARM
TRIGGER:-PT30M
DESCRIPTION:La Nuit de l’Hydro 
ACTION:DISPLAY
END:VALARM
END:VEVENT
END:VCALENDAR