BEGIN:VCALENDAR
VERSION:2.0
PRODID:-//Stratis iCal API//FR
CALSCALE:GREGORIAN
X-WR-CALNAME:Les voiles étudiantes x ENSM
BEGIN:VEVENT
UID:event-5387
SUMMARY:Les voiles étudiantes x ENSM
DESCRIPTION:Les Voiles Étudiantes du Havre x ENSM reviennent pour leur 15ᵉ édition les 28 et 29 mars 2026  en baie de Seine  face à la ville du Havre. Créé en 2010  cet événement est devenu un rendez-vous majeur de la voile universitaire en France  réunissant chaque année des équipages venus de différentes écoles supérieures.
DTSTAMP:20260316T083909Z
DTSTART:20260327T230000Z
DTEND:20260328T230000Z
STATUS:CONFIRMED
SEQUENCE:3
BEGIN:VALARM
TRIGGER:-PT30M
DESCRIPTION:Les voiles étudiantes x ENSM
ACTION:DISPLAY
END:VALARM
END:VEVENT
END:VCALENDAR