BEGIN:VCALENDAR
VERSION:2.0
PRODID:-//Stratis iCal API//FR
CALSCALE:GREGORIAN
X-WR-CALNAME:MARMAR Football Cup
BEGIN:VEVENT
UID:event-5388
SUMMARY:MARMAR Football Cup
DESCRIPTION:Le Bureau des Sports de l’École Nationale Supérieure Maritime (ENSM) du Havre organise la MARMAR Football Cup  un tournoi universitaire inter-établissements qui se tiendra le samedi 4 avril  de 8 h 30 à 19 h  au stade Valmy.
DTSTAMP:20260316T091355Z
DTSTART:20260404T063000Z
DTEND:20260404T170000Z
STATUS:CONFIRMED
SEQUENCE:3
BEGIN:VALARM
TRIGGER:-PT30M
DESCRIPTION:MARMAR Football Cup
ACTION:DISPLAY
END:VALARM
END:VEVENT
END:VCALENDAR