BEGIN:VCALENDAR
VERSION:2.0
PRODID:-//Stratis iCal API//FR
CALSCALE:GREGORIAN
X-WR-CALNAME:Challenge étudiants : don de sang et de plasma
BEGIN:VEVENT
UID:event-5389
SUMMARY:Challenge étudiants : don de sang et de plasma
DESCRIPTION:Du 5 mars au 2 avril 2026  étudiants et personnels des établissements d’enseignement supérieur havrais sont invités à se mobiliser en réalisant un don de sang ou de plasma. Ces dons sont essentiels : chaque année en France  ils contribuent à sauver ou améliorer la vie de plus d’un million de personnes.
DTSTAMP:20260316T131631Z
DTSTART:20260304T230000Z
DTEND:20260401T220000Z
STATUS:CONFIRMED
SEQUENCE:4
BEGIN:VALARM
TRIGGER:-PT30M
DESCRIPTION:Challenge étudiants : don de sang et de plasma
ACTION:DISPLAY
END:VALARM
END:VEVENT
END:VCALENDAR