BEGIN:VCALENDAR
VERSION:2.0
PRODID:-//Stratis iCal API//FR
CALSCALE:GREGORIAN
X-WR-CALNAME:Salon de l'alternance
BEGIN:VEVENT
UID:event-5391
SUMMARY:Salon de l'alternance
DESCRIPTION:De 13h à 19h  le salon réunit plus de 60 entreprises et centres de formation sur trois étages  autour de l’orientation  de l’alternance et de l’insertion professionnelle.
DTSTAMP:20260325T135515Z
DTSTART:20260326T120000Z
DTEND:20260326T180000Z
STATUS:CONFIRMED
SEQUENCE:4
BEGIN:VALARM
TRIGGER:-PT30M
DESCRIPTION:Salon de l'alternance
ACTION:DISPLAY
END:VALARM
END:VEVENT
END:VCALENDAR