BEGIN:VCALENDAR
VERSION:2.0
PRODID:-//Stratis iCal API//FR
CALSCALE:GREGORIAN
X-WR-CALNAME:Forum Jobs d'été
BEGIN:VEVENT
UID:event-5393
SUMMARY:Forum Jobs d'été
DESCRIPTION:Retrouve le forum jobs d’été et viens rencontrer directement des recruteurs.
DTSTAMP:20260326T092936Z
DTSTART:20260409T120000Z
DTEND:20260409T160000Z
STATUS:CONFIRMED
SEQUENCE:2
BEGIN:VALARM
TRIGGER:-PT30M
DESCRIPTION:Forum Jobs d'été
ACTION:DISPLAY
END:VALARM
END:VEVENT
END:VCALENDAR